BEGIN:VCALENDAR
VERSION:2.0
PRODID:-//eventon.com NONSGML v1.0//EN
CALSCALE:GREGORIAN
METHOD:PUBLISH
BEGIN:VEVENT
UID:69e59738c39e5
DTSTAMP:20260420T030216Z
DTSTART:20260817T123000Z
DTEND:20260817T201500Z
LOCATION:
SUMMARY:Magical Makers Week : Art and Cooking Week (Sold Out)
DESCRIPTION:Magical Makers Week : Art and Cooking Week (Sold Out)\nhttps://
 artsmartprogram.com/events/magical-makers-week-art-and-cooking-week/
URL:https://artsmartprogram.com/events/magical-makers-week-art-and-cooking-week/
END:VEVENT
END:VCALENDAR