BEGIN:VCALENDAR
VERSION:2.0
PRODID:-//eventon.com NONSGML v1.0//EN
CALSCALE:GREGORIAN
METHOD:PUBLISH
BEGIN:VEVENT
UID:69e594ed36e4f
DTSTAMP:20260420T025229Z
DTSTART:20260423T140000Z
DTEND:20260423T153000Z
LOCATION:
SUMMARY:Kitchen Science Lab: Vacation Science-Slime (Sold Out)
DESCRIPTION:Kitchen Science Lab: Vacation Science-Slime (Sold Out)\nhttps:/
 /artsmartprogram.com/events/kitchen-science-lab-vacation-science-slime/
URL:https://artsmartprogram.com/events/kitchen-science-lab-vacation-science-slime/
END:VEVENT
END:VCALENDAR