BEGIN:VCALENDAR
VERSION:2.0
PRODID:-//eventon.com NONSGML v1.0//EN
CALSCALE:GREGORIAN
METHOD:PUBLISH
BEGIN:VEVENT
UID:69e596cb8690a
DTSTAMP:20260420T030027Z
DTSTART:20260421T133000Z
DTEND:20260421T170000Z
LOCATION:
SUMMARY:Kitchen Science Lab-Marvelous Marshmellows and Chocolate Domes (Sold Out)
DESCRIPTION:Kitchen Science Lab-Marvelous Marshmellows and Chocolate Domes 
 (Sold Out)\nhttps://artsmartprogram.com/events/kitchen-science-lab-marvelou
 s-marshmellows-and-chocolate-domes/
URL:https://artsmartprogram.com/events/kitchen-science-lab-marvelous-marshmellows-and-chocolate-domes/
END:VEVENT
END:VCALENDAR