BEGIN:VCALENDAR
VERSION:2.0
PRODID:-//eventon.com NONSGML v1.0//EN
CALSCALE:GREGORIAN
METHOD:PUBLISH
BEGIN:VEVENT
UID:69e596f06a4cf
DTSTAMP:20260420T030104Z
DTSTART:20260727T123000Z
DTEND:20260727T201500Z
LOCATION:
SUMMARY:Brushes\,  Batter and Beyond: Pop Stars\,  Baking Battles and Sweet Foundations!
DESCRIPTION:Brushes\,  Batter and Beyond: Pop Stars\,  Baking Battles and S
 weet Foundations!\nhttps://artsmartprogram.com/events/brushes-batter-and-be
 yond-pop-stars-baking-battles-and-sweet-foundations/
URL:https://artsmartprogram.com/events/brushes-batter-and-beyond-pop-stars-baking-battles-and-sweet-foundations/
END:VEVENT
END:VCALENDAR