BEGIN:VCALENDAR
VERSION:2.0
PRODID:-//eventon.com NONSGML v1.0//EN
CALSCALE:GREGORIAN
METHOD:PUBLISH
BEGIN:VEVENT
UID:69e5968696a02
DTSTAMP:20260420T025918Z
DTSTART:20260720T123000Z
DTEND:20260720T201500Z
LOCATION:
SUMMARY:Tasty Tales: A culinary and magical visual storytelling week (Sold Out)
DESCRIPTION:Tasty Tales: A culinary and magical visual storytelling week (S
 old Out)\nhttps://artsmartprogram.com/events/tasty-tales-a-culinary-and-vis
 ual-storytelling-week/
URL:https://artsmartprogram.com/events/tasty-tales-a-culinary-and-visual-storytelling-week/
END:VEVENT
END:VCALENDAR