BEGIN:VCALENDAR
VERSION:2.0
PRODID:-//eventon.com NONSGML v1.0//EN
CALSCALE:GREGORIAN
METHOD:PUBLISH
BEGIN:VEVENT
UID:69e595f39f93d
DTSTAMP:20260420T025651Z
DTSTART:20260713T123000Z
DTEND:20260713T201500Z
LOCATION:
SUMMARY:Raw and Refined: The Bold Makers Week
DESCRIPTION:Raw and Refined: The Bold Makers Week\nhttps://artsmartprogram.
 com/events/raw-and-refined-the-bold-makers-week/
URL:https://artsmartprogram.com/events/raw-and-refined-the-bold-makers-week/
END:VEVENT
END:VCALENDAR