BEGIN:VCALENDAR
VERSION:2.0
PRODID:-//eventon.com NONSGML v1.0//EN
CALSCALE:GREGORIAN
METHOD:PUBLISH
BEGIN:VEVENT
UID:69e59713517bb
DTSTAMP:20260420T030139Z
DTSTART:20260706T123000Z
DTEND:20260706T201500Z
LOCATION:
SUMMARY:Mixed Media Madness with Edible Kitchen Science Lab
DESCRIPTION:Mixed Media Madness with Edible Kitchen Science Lab\nhttps://ar
 tsmartprogram.com/events/mixed-media-madness-with-edible-kitchen-science-la
 b/
URL:https://artsmartprogram.com/events/mixed-media-madness-with-edible-kitchen-science-lab/
END:VEVENT
END:VCALENDAR