BEGIN:VCALENDAR
VERSION:2.0
PRODID:-//eventon.com NONSGML v1.0//EN
CALSCALE:GREGORIAN
METHOD:PUBLISH
BEGIN:VEVENT
UID:69e594c97dd6b
DTSTAMP:20260420T025153Z
DTSTART:20260817T123000Z
DTEND:20260817T201500Z
LOCATION:
SUMMARY:Building Skills and Baking Thrills: A Creative Experimental Week
DESCRIPTION:Building Skills and Baking Thrills: A Creative Experimental Wee
 k\nhttps://artsmartprogram.com/events/building-skills-and-baking-thrills-a-
 teen-experimental-week/
URL:https://artsmartprogram.com/events/building-skills-and-baking-thrills-a-teen-experimental-week/
END:VEVENT
END:VCALENDAR