BEGIN:VCALENDAR
VERSION:2.0
PRODID:-//eventon.com NONSGML v1.0//EN
CALSCALE:GREGORIAN
METHOD:PUBLISH
BEGIN:VEVENT
UID:69e596d99d988
DTSTAMP:20260420T030041Z
DTSTART:20260810T123000Z
DTEND:20260810T201500Z
LOCATION:
SUMMARY:Colorful Art meets Tasty Challenges Week
DESCRIPTION:Colorful Art meets Tasty Challenges Week\nhttps://artsmartprogr
 am.com/events/colorful-art-meets-tasty-challenges/
URL:https://artsmartprogram.com/events/colorful-art-meets-tasty-challenges/
END:VEVENT
END:VCALENDAR