BEGIN:VCALENDAR
VERSION:2.0
PRODID:-//eventon.com NONSGML v1.0//EN
CALSCALE:GREGORIAN
METHOD:PUBLISH
BEGIN:VEVENT
UID:69e5967c89ea5
DTSTAMP:20260420T025908Z
DTSTART:20260810T123000Z
DTEND:20260810T201500Z
LOCATION:
SUMMARY:Color Explosion Week: Paint\,  Batter and Boom!
DESCRIPTION:Color Explosion Week: Paint\,  Batter and Boom!\nhttps://artsma
 rtprogram.com/events/color-explosion-week-paint-batter-and-boom/
URL:https://artsmartprogram.com/events/color-explosion-week-paint-batter-and-boom/
END:VEVENT
END:VCALENDAR