BEGIN:VCALENDAR
VERSION:2.0
PRODID:-//eventon.com NONSGML v1.0//EN
CALSCALE:GREGORIAN
METHOD:PUBLISH
BEGIN:VEVENT
UID:69e5973912c91
DTSTAMP:20260420T030217Z
DTSTART:20260803T123000Z
DTEND:20260803T201500Z
LOCATION:
SUMMARY:Glitz\,  Glitter and Gourmet Creations Week! (Sold Out)
DESCRIPTION:Glitz\,  Glitter and Gourmet Creations Week! (Sold Out)\nhttps:
 //artsmartprogram.com/events/glitz-glitter-and-gourmet-creations/
URL:https://artsmartprogram.com/events/glitz-glitter-and-gourmet-creations/
END:VEVENT
END:VCALENDAR