BEGIN:VCALENDAR
VERSION:2.0
PRODID:-//eventon.com NONSGML v1.0//EN
CALSCALE:GREGORIAN
METHOD:PUBLISH
BEGIN:VEVENT
UID:69e595f3e2722
DTSTAMP:20260420T025651Z
DTSTART:20260803T123000Z
DTEND:20260803T201500Z
LOCATION:
SUMMARY:A Sparkly Art and Edible Adventure Week (SOLD OUT)
DESCRIPTION:A Sparkly Art and Edible Adventure Week (SOLD OUT)\nhttps://art
 smartprogram.com/events/a-sparkly-art-and-edible-adventure-week/
URL:https://artsmartprogram.com/events/a-sparkly-art-and-edible-adventure-week/
END:VEVENT
END:VCALENDAR