BEGIN:VCALENDAR
VERSION:2.0
PRODID:-//eventon.com NONSGML v1.0//EN
CALSCALE:GREGORIAN
METHOD:PUBLISH
BEGIN:VEVENT
UID:69e8b41484ed7
DTSTAMP:20260422T114212Z
DTSTART:20260409T133000Z
DTEND:20260409T153000Z
LOCATION:
SUMMARY:Mindful Mornings: Coffee & Charcuterie (Sold Out)
DESCRIPTION:Mindful Mornings: Coffee & Charcuterie (Sold Out)\nhttps://arts
 martprogram.com/events/mindful-mornings-coffee-charcuterie/
URL:https://artsmartprogram.com/events/mindful-mornings-coffee-charcuterie/
END:VEVENT
END:VCALENDAR